BEGIN:VCALENDAR
VERSION:2.0
PRODID:-//Plone.org//NONSGML plone.app.event//EN
X-WR-TIMEZONE:Europe/London
BEGIN:VEVENT
SUMMARY:Women@the Chancery Bar 2024
DTSTART;TZID=Europe/London;VALUE=DATE-TIME:20241209T173000
DTEND;TZID=Europe/London;VALUE=DATE-TIME:20241209T190000
DTSTAMP;VALUE=DATE-TIME:20260422T090337Z
UID:7e11ba3c3882466eb8033cf1ec6f8643@localhost:5004
CONTACT:Ruth Hughes\, rhughes@5sblaw.com
CREATED;VALUE=DATE-TIME:20241010T124606Z
DESCRIPTION:We are sorry\, but this event and its reserve list are fully b
 ooked.  If you want to be informed of future career events in time to regi
 ster\, we would recommend you applying to become a student member - https:
 //www.chba.org.uk/chancery-careers/student-pupil-membership
LAST-MODIFIED;VALUE=DATE-TIME:20241104T101603Z
LOCATION:Gatehouse Chambers
URL:https://www.chba.org.uk/latest/women-the-chancery-bar-2024
END:VEVENT
BEGIN:VTIMEZONE
TZID:Europe/London
X-LIC-LOCATION:Europe/London
BEGIN:STANDARD
DTSTART;VALUE=DATE-TIME:20241027T010000
TZNAME:GMT
TZOFFSETFROM:+0100
TZOFFSETTO:+0000
END:STANDARD
END:VTIMEZONE
END:VCALENDAR
